BEGIN:VCALENDAR
VERSION:2.0
PRODID:spatie/icalendar-generator
DESCRIPTION:Veranstaltungen von Lutherisch im Saarland
X-WR-CALDESC:Veranstaltungen von Lutherisch im Saarland
REFRESH-INTERVAL;VALUE=DURATION:PT1440M
X-PUBLISHED-TTL:PT1440M
BEGIN:VTIMEZONE
TZID:Europe/Berlin
BEGIN:STANDARD
DTSTART:20251026T030000Z
TZOFFSETFROM:+0200
TZOFFSETTO:+0100
END:STANDARD
BEGIN:DAYLIGHT
DTSTART:20260329T020000Z
TZOFFSETFROM:+0100
TZOFFSETTO:+0200
END:DAYLIGHT
BEGIN:STANDARD
DTSTART:20261025T030000Z
TZOFFSETFROM:+0200
TZOFFSETTO:+0100
END:STANDARD
END:VTIMEZONE
BEGIN:VTIMEZONE
TZID:UTC
BEGIN:STANDARD
DTSTART:20250725T213937Z
TZOFFSETFROM:+0000
TZOFFSETTO:+0000
END:STANDARD
END:VTIMEZONE
BEGIN:VEVENT
UID:136-128
DTSTAMP:20260421T213937Z
SUMMARY:Gottesdienst auf portugiesisch
LOCATION:
ORGANIZER;CN=Johannes Achenbach:MAILTO:spiesen@selk.de
DTSTART;TZID=Europe/Berlin:20260426T180000
DTEND;TZID=Europe/Berlin:20260426T190000
X-ALT-DESC;FMTTYPE=TEXT/HTML:
CATEGORIES:Predigtgottesdienst,  Saarbrücken
URL;VALUE=URI:https://lutherisch-saarland.de/mc-events/gottesdienst-auf-por
 tugiesisch/
METHOD:PUBLISH
END:VEVENT
END:VCALENDAR